BEGIN:VCALENDAR
VERSION:2.0
PRODID:-//strichards.com//eCatholic//EN
X-WR-TIMEZONE:LocalTZ
BEGIN:VTIMEZONE
TZID:LocalTZ
X-LIC-LOCATION:LocalTZ
BEGIN:DAYLIGHT
TZOFFSETFROM:-0600
TZOFFSETTO:-0500
TZNAME:LocalTZ
DTSTART:19700308T020000
RRULE:FREQ=YEARLY;BYMONTH=3;BYDAY=2SU
END:DAYLIGHT
BEGIN:STANDARD
TZOFFSETFROM:-0500
TZOFFSETTO:-0600
TZNAME:LocalTZ
DTSTART:19701101T020000
RRULE:FREQ=YEARLY;BYMONTH=11;BYDAY=1SU
END:STANDARD
END:VTIMEZONE
BEGIN:VEVENT
UID:1460603@strichards.com
DTSTAMP:20260422T175814Z
DTSTART:20260428T080000
DTEND:20260428T090000
RRULE:FREQ=WEEKLY;BYDAY=TU
EXDATE:20201208T080000,20210525T080000
SUMMARY:Tuesday Morning Mass
DESCRIPTION:Daily Masses are held at 8 a.m. and 5:30 p.m.: Monday at St. P
 eter\; Tuesday at St. Richard\; Wednesday at Assumption\; Thursday at St. 
 Richard\; Friday at Assumption. On Saturday\, daily Mass is celebrated at 
 8 a.m. and noon at St. Peter.
END:VEVENT
END:VCALENDAR
